BEGIN:VCALENDAR
VERSION:2.0
PRODID:-//rrvmnd.org//NONSGML kigkonsult.se iCalcreator 2.30.10//
CALSCALE:GREGORIAN
METHOD:PUBLISH
UID:972e0492-37c3-4e4f-a47a-2ce979ffc83f
X-WR-CALDESC:Registration 9am KSU at 11am Caesar Bar and Biscuits and Gravy
  will be Served
X-WR-RELCALID:36fe912cf7b529d6fe06d2cbffa7b02d
X-WR-TIMEZONE:America/Chicago
BEGIN:VTIMEZONE
TZID:America/Chicago
BEGIN:STANDARD
TZNAME:CST
DTSTART:20241103T020000
TZOFFSETFROM:-0500
TZOFFSETTO:-0600
RDATE:20251102T020000
RDATE:20261101T020000
END:STANDARD
BEGIN:DAYLIGHT
TZNAME:CDT
DTSTART:20250309T020000
TZOFFSETFROM:-0600
TZOFFSETTO:-0500
RDATE:20260308T020000
END:DAYLIGHT
END:VTIMEZONE
BEGIN:VEVENT
UID:0555715c-3241-46ba-8379-75498a38c7ad
DTSTAMP:20260425T002148Z
DESCRIPTION:Registration 9am KSU at 11am Caesar Bar and Biscuits and Gravy 
 will be Served
DTSTART;TZID=America/Chicago:20250703T090000
DTEND;TZID=America/Chicago:20250703T220000
LOCATION:1109 Main St\, Towner\, ND 58788 US
SUMMARY:17th Annual Gallows MC Memorial Bull Run
END:VEVENT
END:VCALENDAR
