BEGIN:VCALENDAR
VERSION:2.0
PRODID:-//rrvmnd.org//NONSGML kigkonsult.se iCalcreator 2.30.10//
CALSCALE:GREGORIAN
METHOD:PUBLISH
UID:1b415ebe-4228-4e8e-b457-5eedda1d3deb
X-WR-CALDESC:$25/Bike $10/Rider Leaving from Spirit Lake Casino and Resort 
 South of Devils Lake KSU at 11am
X-WR-RELCALID:b45998eb2cc373f08da520d855c46dca
X-WR-TIMEZONE:America/Chicago
BEGIN:VTIMEZONE
TZID:America/Chicago
BEGIN:STANDARD
TZNAME:CST
DTSTART:20241103T020000
TZOFFSETFROM:-0500
TZOFFSETTO:-0600
RDATE:20251102T020000
RDATE:20261101T020000
END:STANDARD
BEGIN:DAYLIGHT
TZNAME:CDT
DTSTART:20250309T020000
TZOFFSETFROM:-0600
TZOFFSETTO:-0500
RDATE:20260308T020000
END:DAYLIGHT
END:VTIMEZONE
BEGIN:VEVENT
UID:675f44f0-a68a-4ef8-a7ac-d6bc0291ce3a
DTSTAMP:20260425T000520Z
DESCRIPTION:$25/Bike $10/Rider Leaving from Spirit Lake Casino and Resort S
 outh of Devils Lake KSU at 11am
DTSTART;TZID=America/Chicago:20250712T110000
DTEND;TZID=America/Chicago:20250712T200000
LOCATION:7889 ND-57\, St Michael\, ND 58370 US
SUMMARY:Fire & Iron Station 216 4th Annual Autism Run
END:VEVENT
END:VCALENDAR
