BEGIN:VCALENDAR
VERSION:2.0
PRODID:-//rrvmnd.org//NONSGML kigkonsult.se iCalcreator 2.30.10//
CALSCALE:GREGORIAN
METHOD:PUBLISH
UID:e9711acd-a797-4305-8148-a4c1d7e613b7
X-WR-CALDESC:Registration at 11am Our Place Tavern\, KSU Noon
X-WR-RELCALID:d313a8659def30f7baea7f8892f2a67a
X-WR-TIMEZONE:America/Chicago
BEGIN:VTIMEZONE
TZID:America/Chicago
BEGIN:STANDARD
TZNAME:CST
DTSTART:20241103T020000
TZOFFSETFROM:-0500
TZOFFSETTO:-0600
RDATE:20251102T020000
RDATE:20261101T020000
END:STANDARD
BEGIN:DAYLIGHT
TZNAME:CDT
DTSTART:20250309T020000
TZOFFSETFROM:-0600
TZOFFSETTO:-0500
RDATE:20260308T020000
END:DAYLIGHT
END:VTIMEZONE
BEGIN:VEVENT
UID:d75dc765-de2d-4c0e-b57b-7c0b0d8ed41b
DTSTAMP:20260425T001842Z
DESCRIPTION:Registration at 11am Our Place Tavern\, KSU Noon
DTSTART;TZID=America/Chicago:20250712T110000
DTEND;TZID=America/Chicago:20250712T120000
LOCATION:1305 E Front Ave\, Bismarck\, ND 58504 US
SUMMARY:OPMC Fun Run - Our Place Tavern
END:VEVENT
END:VCALENDAR
