BEGIN:VCALENDAR
VERSION:2.0
PRODID:-//rrvmnd.org//NONSGML kigkonsult.se iCalcreator 2.30.10//
CALSCALE:GREGORIAN
METHOD:PUBLISH
UID:70934b97-2d02-4e97-8057-f31e8b3244a5
X-WR-CALDESC:10a Registration\, KSU 11:30a\n\nBenefiting Anne Carlsen Cente
 r
X-WR-RELCALID:2e51dd065a306c5bc82c60fe67b7d4a7
X-WR-TIMEZONE:America/Chicago
BEGIN:VTIMEZONE
TZID:America/Chicago
BEGIN:STANDARD
TZNAME:CST
DTSTART:20241103T020000
TZOFFSETFROM:-0500
TZOFFSETTO:-0600
RDATE:20251102T020000
RDATE:20261101T020000
END:STANDARD
BEGIN:DAYLIGHT
TZNAME:CDT
DTSTART:20250309T020000
TZOFFSETFROM:-0600
TZOFFSETTO:-0500
RDATE:20260308T020000
END:DAYLIGHT
END:VTIMEZONE
BEGIN:VEVENT
UID:195d8378-eb10-4533-9cee-8142dfb9d2e5
DTSTAMP:20260425T000203Z
DESCRIPTION:10a Registration\, KSU 11:30a\n\nBenefiting Anne Carlsen Center
DTSTART;TZID=America/Chicago:20250719T100000
DTEND;TZID=America/Chicago:20250719T230000
LOCATION:2501 3rd Ave SW\, \, Jamestown\, ND 58401 US
SUMMARY:28th Annual Individuals MC & Ladies MC Christmas in July
END:VEVENT
END:VCALENDAR
