BEGIN:VCALENDAR
VERSION:2.0
PRODID:-//rrvmnd.org//NONSGML kigkonsult.se iCalcreator 2.30.10//
CALSCALE:GREGORIAN
METHOD:PUBLISH
UID:32e42ee8-6611-4c19-b895-16ec69b1764e
X-WR-CALDESC:Registration starts at 9:30a KSU 11a\n$20/rider $10/passenger
 \n\nRoute:\nBELFIELD HEBRON\nCENTER\nHAZEN\nKILLDEER\nBELFIELD
X-WR-RELCALID:c62d83221fd3356186e78a83f9970ebe
X-WR-TIMEZONE:America/Chicago
BEGIN:VTIMEZONE
TZID:America/Chicago
BEGIN:STANDARD
TZNAME:CST
DTSTART:20241103T020000
TZOFFSETFROM:-0500
TZOFFSETTO:-0600
RDATE:20251102T020000
RDATE:20261101T020000
END:STANDARD
BEGIN:DAYLIGHT
TZNAME:CDT
DTSTART:20250309T020000
TZOFFSETFROM:-0600
TZOFFSETTO:-0500
RDATE:20260308T020000
END:DAYLIGHT
END:VTIMEZONE
BEGIN:VEVENT
UID:dc3d7308-9406-413c-86e8-e8e081a3088c
DTSTAMP:20260425T000204Z
DESCRIPTION:Registration starts at 9:30a KSU 11a\n$20/rider $10/passenger\n
 \nRoute:\nBELFIELD HEBRON\nCENTER\nHAZEN\nKILLDEER\nBELFIELD
DTSTART;TZID=America/Chicago:20250719T081500
DTEND;TZID=America/Chicago:20250719T180000
LOCATION:107 1st Ave NW\, Belfield\, ND 58622 US
SUMMARY:Combat Vets 42-1 7th Annual Belfield Run
END:VEVENT
END:VCALENDAR
