BEGIN:VCALENDAR
VERSION:2.0
PRODID:-//rrvmnd.org//NONSGML kigkonsult.se iCalcreator 2.30.10//
CALSCALE:GREGORIAN
METHOD:PUBLISH
UID:86478e04-0d1a-42f3-a5dc-8f070c26c03e
X-WR-CALDESC:Event Registration Info TBD
X-WR-RELCALID:3d8d7b654dc882c5542a1e556f2eab52
X-WR-TIMEZONE:America/Chicago
BEGIN:VTIMEZONE
TZID:America/Chicago
BEGIN:STANDARD
TZNAME:CST
DTSTART:20241103T020000
TZOFFSETFROM:-0500
TZOFFSETTO:-0600
RDATE:20251102T020000
RDATE:20261101T020000
END:STANDARD
BEGIN:DAYLIGHT
TZNAME:CDT
DTSTART:20250309T020000
TZOFFSETFROM:-0600
TZOFFSETTO:-0500
RDATE:20260308T020000
END:DAYLIGHT
END:VTIMEZONE
BEGIN:VEVENT
UID:f2dd9351-4ba1-40b4-8e15-48f036f5a367
DTSTAMP:20260425T000353Z
DESCRIPTION:Event Registration Info TBD
DTSTART;TZID=America/Chicago:20250726T160000
DTEND;TZID=America/Chicago:20250726T170000
LOCATION:200 1st Ave S\, Jamestown\, ND 58401 US
SUMMARY:FM Crusaders MC Cause for Paws Run
END:VEVENT
END:VCALENDAR
