BEGIN:VCALENDAR
VERSION:2.0
PRODID:-//rrvmnd.org//NONSGML kigkonsult.se iCalcreator 2.30.10//
CALSCALE:GREGORIAN
METHOD:PUBLISH
UID:5af17bbf-69d9-4a62-9a75-bc16f0fa80ea
X-WR-CALDESC:All ages & all vehicles welcome! \n$20 per card\nRegistration 
 at 9a KSU 11am
X-WR-RELCALID:79e1ca2df45c4fcf2fcf76aa8336d3bd
X-WR-TIMEZONE:America/Chicago
BEGIN:VTIMEZONE
TZID:America/Chicago
BEGIN:STANDARD
TZNAME:CST
DTSTART:20241103T020000
TZOFFSETFROM:-0500
TZOFFSETTO:-0600
RDATE:20251102T020000
RDATE:20261101T020000
END:STANDARD
BEGIN:DAYLIGHT
TZNAME:CDT
DTSTART:20250309T020000
TZOFFSETFROM:-0600
TZOFFSETTO:-0500
RDATE:20260308T020000
END:DAYLIGHT
END:VTIMEZONE
BEGIN:VEVENT
UID:059de1d2-4750-4dbb-8fef-7e679cd6df6d
DTSTAMP:20260424T223121Z
DESCRIPTION:All ages & all vehicles welcome! \n$20 per card\nRegistration a
 t 9a KSU 11am
DTSTART;TZID=America/Chicago:20250831T090000
DTEND;TZID=America/Chicago:20250831T180000
LOCATION:6701 US-83\, Minot\, ND 58701 US
SUMMARY:Combat Vets 4th Annual Rips Run
END:VEVENT
END:VCALENDAR
