BEGIN:VCALENDAR
VERSION:2.0
PRODID:-//rrvmnd.org//NONSGML kigkonsult.se iCalcreator 2.30.10//
CALSCALE:GREGORIAN
METHOD:PUBLISH
UID:e639afd5-dbea-49ed-9a0f-a49cffed3991
X-WR-CALDESC:<b>By entering our Bike &amp\; Car Show\, you help support vet
 erans and make their participation in the Veterans Honor Flight of ND/MN p
 ossible. Show proceeds\, raffle ticket sales\, donations\, sponsorships\, 
 and vendor contributions directly aid this cause. Thank you for helping us
  continue to support our veterans.</b>\n\nRegistration is required by May 
 1\, 2026\n\nThe Red River Valley Motorcyclists (RRVM)\, the Alerus Event C
 enter\, City of Grand Forks/Events Center Commission shall not be responsi
 ble for any loss or damage:\n* Including\, but not limited to\, dents and 
 scratches to all or any part of the exhibitor’s display and/or\nmotorcycle
 /car for the duration of the show (i.e.\, show set-up\, exhibition\, and t
 ear-down).\n* Security is provided at all times during the weekend of the 
 show.\n* The owner is responsible for any and all insurance on his/her mot
 orcycle/car.\n* To comply with fire regulations\; the owner states: \n* Mo
 torcycle gas tank is no more than ¼ full of fuel.\n* Car gas tank less tha
 n 1/2 full of fuel.\n* Car batteries\; if you have a quick disconnect\, pl
 ease use it.
X-WR-RELCALID:23dc3af87512101abe951fee07d8b152
X-WR-TIMEZONE:America/Chicago
BEGIN:VTIMEZONE
TZID:America/Chicago
BEGIN:STANDARD
TZNAME:CST
DTSTART:20251102T020000
TZOFFSETFROM:-0500
TZOFFSETTO:-0600
RDATE:20261101T020000
END:STANDARD
BEGIN:DAYLIGHT
TZNAME:CDT
DTSTART:20260308T020000
TZOFFSETFROM:-0600
TZOFFSETTO:-0500
RDATE:20270314T020000
END:DAYLIGHT
END:VTIMEZONE
BEGIN:VEVENT
UID:b71cabc9-e5a2-4ba0-9fbd-71335acbc878
DTSTAMP:20260422T185812Z
DESCRIPTION:<b>By entering our Bike &amp\; Car Show\, you help support vete
 rans and make their participation in the Veterans Honor Flight of ND/MN po
 ssible. Show proceeds\, raffle ticket sales\, donations\, sponsorships\, a
 nd vendor contributions directly aid this cause. Thank you for helping us 
 continue to support our veterans.</b>\n\nRegistration is required by May 1
 \, 2026\n\nThe Red River Valley Motorcyclists (RRVM)\, the Alerus Event Ce
 nter\, City of Grand Forks/Events Center Commission shall not be responsib
 le for any loss or damage:\n* Including\, but not limited to\, dents and s
 cratches to all or any part of the exhibitor’s display and/or\nmotorcycle/
 car for the duration of the show (i.e.\, show set-up\, exhibition\, and te
 ar-down).\n* Security is provided at all times during the weekend of the s
 how.\n* The owner is responsible for any and all insurance on his/her moto
 rcycle/car.\n* To comply with fire regulations\; the owner states: \n* Mot
 orcycle gas tank is no more than ¼ full of fuel.\n* Car gas tank less than
  1/2 full of fuel.\n* Car batteries\; if you have a quick disconnect\, ple
 ase use it.
DTSTART;TZID=America/Chicago:20260502T050000
DTEND;TZID=America/Chicago:20260503T050001
LOCATION:1200 42nd  Street South\, Grand Forks\, ND 58201 US
SUMMARY:2026 RRVM Spirit Of America Bike & Car Show
END:VEVENT
END:VCALENDAR
