BEGIN:VCALENDAR
VERSION:2.0
PRODID:-//rrvmnd.org//NONSGML kigkonsult.se iCalcreator 2.30.10//
CALSCALE:GREGORIAN
METHOD:PUBLISH
UID:4a60e4db-c357-4c67-b51e-a840e39221f4
X-WR-CALDESC:Registration 11am KSU Noon
X-WR-RELCALID:c6736b7aa400a97daee4c69634ee49fa
X-WR-TIMEZONE:America/Chicago
BEGIN:VTIMEZONE
TZID:America/Chicago
BEGIN:STANDARD
TZNAME:CST
DTSTART:20241103T020000
TZOFFSETFROM:-0500
TZOFFSETTO:-0600
RDATE:20251102T020000
RDATE:20261101T020000
END:STANDARD
BEGIN:DAYLIGHT
TZNAME:CDT
DTSTART:20250309T020000
TZOFFSETFROM:-0600
TZOFFSETTO:-0500
RDATE:20260308T020000
END:DAYLIGHT
END:VTIMEZONE
BEGIN:VEVENT
UID:89b9f471-c76e-4a6a-9bac-0ff6453d16bb
DTSTAMP:20260423T075846Z
DESCRIPTION:Registration 11am KSU Noon
DTSTART;TZID=America/Chicago:20250712T110000
DTEND;TZID=America/Chicago:20250712T200000
LOCATION:412 Wheat St \, Hannaford\, ND 58448 US
SUMMARY:Prairie Riders MC Fun Run – Hannaford
END:VEVENT
END:VCALENDAR
