BEGIN:VCALENDAR
VERSION:2.0
PRODID:-//rrvmnd.org//NONSGML kigkonsult.se iCalcreator 2.30.10//
CALSCALE:GREGORIAN
METHOD:PUBLISH
UID:53a6ee03-478b-464b-8b33-595313e0a727
X-WR-CALDESC:Registration 8am-11am Road Rangers MC Club House just off the 
 main road in Regent\, ND.\n\nKSU at 11am\, end at RRCH in Regent for party
X-WR-RELCALID:75d15d2ef563be30935735f972c7872e
X-WR-TIMEZONE:America/Chicago
BEGIN:VTIMEZONE
TZID:America/Chicago
BEGIN:STANDARD
TZNAME:CST
DTSTART:20241103T020000
TZOFFSETFROM:-0500
TZOFFSETTO:-0600
RDATE:20251102T020000
RDATE:20261101T020000
END:STANDARD
BEGIN:DAYLIGHT
TZNAME:CDT
DTSTART:20250309T020000
TZOFFSETFROM:-0600
TZOFFSETTO:-0500
RDATE:20260308T020000
END:DAYLIGHT
END:VTIMEZONE
BEGIN:VEVENT
UID:d0c17e33-0b0a-42c7-a144-6051b7b7331d
DTSTAMP:20260423T080939Z
DESCRIPTION:Registration 8am-11am Road Rangers MC Club House just off the m
 ain road in Regent\, ND.\n\nKSU at 11am\, end at RRCH in Regent for party
DTSTART;TZID=America/Chicago:20250719T080000
DTEND;TZID=America/Chicago:20250719T160000
LOCATION:Main St\, Regent\, ND 58650 US
SUMMARY:Road Rangers MC Fallen Brothers Ride
END:VEVENT
END:VCALENDAR
