BEGIN:VCALENDAR
VERSION:2.0
PRODID:-//rrvmnd.org//NONSGML kigkonsult.se iCalcreator 2.30.10//
CALSCALE:GREGORIAN
METHOD:PUBLISH
UID:f408663b-d951-419b-85c9-e9030b1c53ad
X-WR-CALDESC:Registration 11am to noon\n$20 per rider/passenger\n\nCars Wel
 come!
X-WR-RELCALID:f4b73844a36ab7ee9bb4ce748fc2e42f
X-WR-TIMEZONE:America/Chicago
BEGIN:VTIMEZONE
TZID:America/Chicago
BEGIN:STANDARD
TZNAME:CST
DTSTART:20241103T020000
TZOFFSETFROM:-0500
TZOFFSETTO:-0600
RDATE:20251102T020000
RDATE:20261101T020000
END:STANDARD
BEGIN:DAYLIGHT
TZNAME:CDT
DTSTART:20250309T020000
TZOFFSETFROM:-0600
TZOFFSETTO:-0500
RDATE:20260308T020000
END:DAYLIGHT
END:VTIMEZONE
BEGIN:VEVENT
UID:2a70c6fe-7d09-4981-bab4-475092410697
DTSTAMP:20260423T081605Z
DESCRIPTION:Registration 11am to noon\n$20 per rider/passenger\n\nCars Welc
 ome!
DTSTART;TZID=America/Chicago:20250720T110000
DTEND;TZID=America/Chicago:20250720T190000
LOCATION:2501 3rd Ave SW\, Jamestown\, ND 58401 US
SUMMARY:The Ride to Silence the Stigma - Midnight Riders
END:VEVENT
END:VCALENDAR
