BEGIN:VCALENDAR
VERSION:2.0
PRODID:-//rrvmnd.org//NONSGML kigkonsult.se iCalcreator 2.30.10//
CALSCALE:GREGORIAN
METHOD:PUBLISH
UID:5056c920-160a-4054-8c80-469db8706b32
X-WR-CALDESC:Registration 11a KSU 12pm\n\nAll Proceeds go to River Riders S
 cholarship Fund\n$20/person\n\nAll Cycles & Vehicles Welcome!
X-WR-RELCALID:8c39ee7924b0bb7fa7c40b23a133a6c0
X-WR-TIMEZONE:America/Chicago
BEGIN:VTIMEZONE
TZID:America/Chicago
BEGIN:STANDARD
TZNAME:CST
DTSTART:20241103T020000
TZOFFSETFROM:-0500
TZOFFSETTO:-0600
RDATE:20251102T020000
RDATE:20261101T020000
END:STANDARD
BEGIN:DAYLIGHT
TZNAME:CDT
DTSTART:20250309T020000
TZOFFSETFROM:-0600
TZOFFSETTO:-0500
RDATE:20260308T020000
END:DAYLIGHT
END:VTIMEZONE
BEGIN:VEVENT
UID:8983921d-9064-4f3d-a375-e4a43de284c4
DTSTAMP:20260423T080549Z
DESCRIPTION:Registration 11a KSU 12pm\n\nAll Proceeds go to River Riders Sc
 holarship Fund\n$20/person\n\nAll Cycles & Vehicles Welcome!
DTSTART;TZID=America/Chicago:20250726T120000
DTEND;TZID=America/Chicago:20250726T160000
LOCATION:717 Main Ave\, Washburn\, ND 58577 US
SUMMARY:River Riders Scholarship Run
END:VEVENT
END:VCALENDAR
