BEGIN:VCALENDAR
VERSION:2.0
PRODID:-//rrvmnd.org//NONSGML kigkonsult.se iCalcreator 2.30.10//
CALSCALE:GREGORIAN
METHOD:PUBLISH
UID:05113a84-33a7-4de6-9a70-8a2c626d76da
X-WR-CALDESC:No Entry Fee\nPeoples Choice Awards
X-WR-RELCALID:30a0e00c4b2b3f5e2268174095970d92
X-WR-TIMEZONE:America/Chicago
BEGIN:VTIMEZONE
TZID:America/Chicago
BEGIN:STANDARD
TZNAME:CST
DTSTART:20241103T020000
TZOFFSETFROM:-0500
TZOFFSETTO:-0600
RDATE:20251102T020000
RDATE:20261101T020000
END:STANDARD
BEGIN:DAYLIGHT
TZNAME:CDT
DTSTART:20250309T020000
TZOFFSETFROM:-0600
TZOFFSETTO:-0500
RDATE:20260308T020000
END:DAYLIGHT
END:VTIMEZONE
BEGIN:VEVENT
UID:d81fe738-4dc6-454a-a001-dba8af27adc1
DTSTAMP:20260423T080813Z
DESCRIPTION:No Entry Fee\nPeoples Choice Awards
DTSTART;TZID=America/Chicago:20250727T130000
DTEND;TZID=America/Chicago:20250727T160000
LOCATION:1412A US-83\, Coleharbor\, ND 58531 US
SUMMARY:Apehangers MC Ride in Bike Show
END:VEVENT
END:VCALENDAR
