BEGIN:VCALENDAR
VERSION:2.0
PRODID:-//rrvmnd.org//NONSGML kigkonsult.se iCalcreator 2.30.10//
CALSCALE:GREGORIAN
METHOD:PUBLISH
UID:c0c5ab62-bfd6-45e6-b71f-9f863785e864
X-WR-CALDESC:Registration at 10a KSU 11a\n\n170mi group motorcycle ride ben
 efiting student programs at ND Adult & Teen Challenge\nCookout to follow a
 round 5p at TC Center\, Mandan\n
X-WR-RELCALID:b6713d4ff48d5f427b1aa6bc8fda2ce0
X-WR-TIMEZONE:America/Chicago
BEGIN:VTIMEZONE
TZID:America/Chicago
BEGIN:STANDARD
TZNAME:CST
DTSTART:20241103T020000
TZOFFSETFROM:-0500
TZOFFSETTO:-0600
RDATE:20251102T020000
RDATE:20261101T020000
END:STANDARD
BEGIN:DAYLIGHT
TZNAME:CDT
DTSTART:20250309T020000
TZOFFSETFROM:-0600
TZOFFSETTO:-0500
RDATE:20260308T020000
END:DAYLIGHT
END:VTIMEZONE
BEGIN:VEVENT
UID:4966bd79-acf2-46d9-ab60-33d33b100759
DTSTAMP:20260423T062448Z
DESCRIPTION:Registration at 10a KSU 11a\n\n170mi group motorcycle ride bene
 fiting student programs at ND Adult & Teen Challenge\nCookout to follow ar
 ound 5p at TC Center\, Mandan\n
DTSTART;TZID=America/Chicago:20250823T100000
DTEND;TZID=America/Chicago:20250823T170000
LOCATION:1406 2nd St NW\, Mandan\, ND 58554 US
SUMMARY:Ride 4 Recovery Adult & Teen Challenge ND
END:VEVENT
END:VCALENDAR
