BEGIN:VCALENDAR
VERSION:2.0
PRODID:-//rrvmnd.org//NONSGML kigkonsult.se iCalcreator 2.30.10//
CALSCALE:GREGORIAN
METHOD:PUBLISH
UID:34529571-0442-4359-91ba-9af02088eaf1
X-WR-CALDESC:
X-WR-RELCALID:b113ae411fe0f640c653523a60ad7e4c
X-WR-TIMEZONE:America/Chicago
BEGIN:VTIMEZONE
TZID:America/Chicago
BEGIN:STANDARD
TZNAME:CST
DTSTART:20241103T020000
TZOFFSETFROM:-0500
TZOFFSETTO:-0600
RDATE:20251102T020000
RDATE:20261101T020000
END:STANDARD
BEGIN:DAYLIGHT
TZNAME:CDT
DTSTART:20250309T020000
TZOFFSETFROM:-0600
TZOFFSETTO:-0500
RDATE:20260308T020000
END:DAYLIGHT
END:VTIMEZONE
BEGIN:VEVENT
UID:c5608f3d-80ff-4a85-b18a-9ab8b2cd7203
DTSTAMP:20260423T063155Z
DESCRIPTION:
DTSTART;TZID=America/Chicago:20250823T120000
DTEND;TZID=America/Chicago:20250823T180000
LOCATION:3708 Memorial Hwy\, Mandan\, ND 58554 US
SUMMARY:Rough Riders MC Fun Run
END:VEVENT
END:VCALENDAR
